BEGIN:VCALENDAR
VERSION:2.0
PRODID:-//Berliner Hockey-Club e.V. - ECPv6.15.20//NONSGML v1.0//EN
CALSCALE:GREGORIAN
METHOD:PUBLISH
X-ORIGINAL-URL:https://www.berlinerhc.de
X-WR-CALDESC:Veranstaltungen für Berliner Hockey-Club e.V.
REFRESH-INTERVAL;VALUE=DURATION:PT1H
X-Robots-Tag:noindex
X-PUBLISHED-TTL:PT1H
BEGIN:VTIMEZONE
TZID:Europe/Berlin
BEGIN:DAYLIGHT
TZOFFSETFROM:+0100
TZOFFSETTO:+0200
TZNAME:CEST
DTSTART:20250330T010000
END:DAYLIGHT
BEGIN:STANDARD
TZOFFSETFROM:+0200
TZOFFSETTO:+0100
TZNAME:CET
DTSTART:20251026T010000
END:STANDARD
BEGIN:DAYLIGHT
TZOFFSETFROM:+0100
TZOFFSETTO:+0200
TZNAME:CEST
DTSTART:20260329T010000
END:DAYLIGHT
BEGIN:STANDARD
TZOFFSETFROM:+0200
TZOFFSETTO:+0100
TZNAME:CET
DTSTART:20261025T010000
END:STANDARD
BEGIN:DAYLIGHT
TZOFFSETFROM:+0100
TZOFFSETTO:+0200
TZNAME:CEST
DTSTART:20270328T010000
END:DAYLIGHT
BEGIN:STANDARD
TZOFFSETFROM:+0200
TZOFFSETTO:+0100
TZNAME:CET
DTSTART:20271031T010000
END:STANDARD
END:VTIMEZONE
BEGIN:VEVENT
DTSTART;TZID=Europe/Berlin:20260418T100000
DTEND;TZID=Europe/Berlin:20260418T140000
DTSTAMP:20260420T145322
CREATED:20260211T194946Z
LAST-MODIFIED:20260314T142218Z
UID:38293-1776506400-1776520800@www.berlinerhc.de
SUMMARY:BHC räumt auf
DESCRIPTION:
URL:https://www.berlinerhc.de/kalender/bhc-raeumt-auf/
LOCATION:Berliner Hockey-Club e.V.\, Wilskistraße 70\, Berlin\, Berlin\, 14163\, Deutschland
CATEGORIES:Club
END:VEVENT
BEGIN:VEVENT
DTSTART;TZID=Europe/Berlin:20260415T193000
DTEND;TZID=Europe/Berlin:20260415T210000
DTSTAMP:20260420T145322
CREATED:20260414T091744Z
LAST-MODIFIED:20260414T091744Z
UID:39075-1776281400-1776286800@www.berlinerhc.de
SUMMARY:Treffen BHC Supporters Club
DESCRIPTION:
URL:https://www.berlinerhc.de/kalender/treffen-bhc-supporters-club/
LOCATION:Berliner Hockey-Club e.V.\, Wilskistraße 70\, Berlin\, Berlin\, 14163\, Deutschland
CATEGORIES:Club
END:VEVENT
BEGIN:VEVENT
DTSTART;TZID=Europe/Berlin:20260411T120000
DTEND;TZID=Europe/Berlin:20260411T133000
DTSTAMP:20260420T145322
CREATED:20260314T143103Z
LAST-MODIFIED:20260314T143103Z
UID:38665-1775908800-1775914200@www.berlinerhc.de
SUMMARY:Bundesliga Damen Berliner HC vs. Großflottbeker THGC
DESCRIPTION:
URL:https://www.berlinerhc.de/kalender/bundesliga-damen-berliner-hc-vs-grossflottbeker-thgc/
LOCATION:Berliner Hockey-Club e.V.\, Wilskistraße 70\, Berlin\, Berlin\, 14163\, Deutschland
CATEGORIES:Bundesliga (Damen),Hockey
END:VEVENT
BEGIN:VEVENT
DTSTART;TZID=Europe/Berlin:20260328T120000
DTEND;TZID=Europe/Berlin:20260328T133000
DTSTAMP:20260420T145322
CREATED:20260118T175115Z
LAST-MODIFIED:20260118T175115Z
UID:37943-1774699200-1774704600@www.berlinerhc.de
SUMMARY:Bundesliga Damen Berliner HC vs. SC Frankfurt 1880
DESCRIPTION:Tickets gibt es hier.
URL:https://www.berlinerhc.de/kalender/bundesliga-damen-berliner-hc-vs-sc-frankfurt-1880/
LOCATION:Berliner Hockey-Club e.V.\, Wilskistraße 70\, Berlin\, Berlin\, 14163\, Deutschland
CATEGORIES:Bundesliga (Damen),Hockey
END:VEVENT
BEGIN:VEVENT
DTSTART;VALUE=DATE:20260327
DTEND;VALUE=DATE:20260328
DTSTAMP:20260420T145322
CREATED:20251210T133702Z
LAST-MODIFIED:20251210T133702Z
UID:37533-1774569600-1774655999@www.berlinerhc.de
SUMMARY:Abbau Tennishalle
DESCRIPTION:
URL:https://www.berlinerhc.de/kalender/abbau-tennishalle/
LOCATION:Berliner Hockey-Club e.V.\, Wilskistraße 70\, Berlin\, Berlin\, 14163\, Deutschland
CATEGORIES:Tennis
END:VEVENT
BEGIN:VEVENT
DTSTART;TZID=Europe/Berlin:20260325T190000
DTEND;TZID=Europe/Berlin:20260325T210000
DTSTAMP:20260420T145322
CREATED:20260314T141811Z
LAST-MODIFIED:20260314T142207Z
UID:38652-1774465200-1774472400@www.berlinerhc.de
SUMMARY:3. BHC-Mitgliederabend
DESCRIPTION:Liebe Mitglieder des Berliner Hockey Club e.V.\, \nwir bleiben dran für mehr Austausch\, mehr Miteinander und einen Verein\, den wir gemeinsam gestalten. \nDie ersten beiden Mitgliederabende waren ein wichtiger Anfang. Jetzt möchten wir den nächsten Schritt gehen und würden uns sehr freuen\, wenn diesmal noch mehr von euch dabei sind. \nDenn: Ein lebendiger Verein entsteht nicht durch ein Gebäude\, ein Team oder ein Vorstand\, sondern durch seine Mitglieder. \nDaher laden wir euch herzlich zum 3. Mitgliederabend ein: \n📅 Mittwoch\, 25. März 2026 \n🕖 19:00 Uhr \n📍 Clubhaus\, Wilskistraße 70\, Zehlendorf \nEuch erwarten spannende und wirklich wichtige Themen: \n    Was hat der Supporter Club bereits bewegt? \n    Einblick in Aktionen\, Erfolge und nächste Schritte. \n    Mehrzweckgebäude – Wie ist der aktuelle Stand?\n    Infos zur anstehenden Feldsaison\n    Mitglieder fragen – Vorstand antwortet \n    Offener Austausch auf Augenhöhe. \n    Eure Themen\, eure Fragen\, eure Ideen \n    Bringt ein\, was euch wichtig ist. \nWir möchten diesen Abend nutzen\, um zuzuhören\, Klarheit zu schaffen und gemeinsam die Weichen für die Zukunft unseres Clubs zu stellen. \nJe mehr von euch mitreden\, desto stärker wird unser BHC. \nKommt vorbei\, bringt euch ein. Auch wenn es euer erster Mitgliederabend ist. \nJede Stimme\, jede Idee und jede Perspektive bereichert uns. \nWir freuen uns auf euch!
URL:https://www.berlinerhc.de/kalender/3-bhc-mitgliederabend/
LOCATION:Berlin
CATEGORIES:Club
END:VEVENT
BEGIN:VEVENT
DTSTART;TZID=Europe/Berlin:20260322T120000
DTEND;TZID=Europe/Berlin:20260322T133000
DTSTAMP:20260420T145322
CREATED:20260118T174411Z
LAST-MODIFIED:20260118T174411Z
UID:37941-1774180800-1774186200@www.berlinerhc.de
SUMMARY:Bundesliga Damen Berliner HC vs. Münchner SC
DESCRIPTION:Tickets gibt es hier.
URL:https://www.berlinerhc.de/kalender/bundesliga-damen-berliner-hc-vs-muenchner-sc/
LOCATION:Berliner Hockey-Club e.V.\, Wilskistraße 70\, Berlin\, Berlin\, 14163\, Deutschland
CATEGORIES:Bundesliga (Damen),Hockey
END:VEVENT
BEGIN:VEVENT
DTSTART;TZID=Europe/Berlin:20260321T120000
DTEND;TZID=Europe/Berlin:20260321T133000
DTSTAMP:20260420T145322
CREATED:20260118T173716Z
LAST-MODIFIED:20260118T173716Z
UID:37937-1774094400-1774099800@www.berlinerhc.de
SUMMARY:Bundesliga Damen Berliner HC vs. Mannheimer HC
DESCRIPTION:Tickets gibt es hier.
URL:https://www.berlinerhc.de/kalender/bundesliga-damen-berliner-hc-vs-mannheimer-hc/
LOCATION:Berliner Hockey-Club e.V.\, Wilskistraße 70\, Berlin\, Berlin\, 14163\, Deutschland
CATEGORIES:Bundesliga (Damen),Hockey
END:VEVENT
BEGIN:VEVENT
DTSTART;TZID=Europe/Berlin:20260320T200000
DTEND;TZID=Europe/Berlin:20260320T200000
DTSTAMP:20260420T145322
CREATED:20251112T151730Z
LAST-MODIFIED:20251210T135623Z
UID:37213-1774036800-1774036800@www.berlinerhc.de
SUMMARY:90er Jahre Party
DESCRIPTION:
URL:https://www.berlinerhc.de/kalender/90er-jahre-party/
LOCATION:Gastronomie\, Wilskistraße 70\, Berlin\, Berlin\, 14163\, Deutschland
CATEGORIES:Club
END:VEVENT
BEGIN:VEVENT
DTSTART;TZID=Europe/Berlin:20260315T140000
DTEND;TZID=Europe/Berlin:20260315T160000
DTSTAMP:20260420T145322
CREATED:20260314T112608Z
LAST-MODIFIED:20260314T112608Z
UID:38646-1773583200-1773590400@www.berlinerhc.de
SUMMARY:Rückrundenstart Lacrosse Damen (auswärts)
DESCRIPTION:Die Damen sind am Sonntag um 14 Uhr zu Gast bei den Vizemeisterinnen in Hamburg. Das Saisonziel ist eine Teilnahme bei der Deutschen Meisterschaft im Feldlacrosse. Aktuell steht das Damenteam auf dem zweiten Tabellenplatz der 1. Bundesliga Nord\, ein Überraschungssieg am Sonntag gegen das Team aus Hamburg würde die Qualifikation schon vor dem letzten Spieltag sichern
URL:https://www.berlinerhc.de/kalender/rueckrundenstart-lacrosse-damen-auswaerts/
LOCATION:HTHC Lacrosse\, Beckermannweg 35\, Hamburg\, 22419\, Germany
CATEGORIES:Lacrosse
END:VEVENT
BEGIN:VEVENT
DTSTART;TZID=Europe/Berlin:20260315T130000
DTEND;TZID=Europe/Berlin:20260315T150000
DTSTAMP:20260420T145322
CREATED:20260314T112258Z
LAST-MODIFIED:20260314T112258Z
UID:38644-1773579600-1773586800@www.berlinerhc.de
SUMMARY:Rückrundenstart Lacrosse Herren
DESCRIPTION:Erste Partie der 1. Bundesliga Feld Rückrunde gegen den dreifach Verteidigenden Deutschen Meister HTHC.\nWir sind ein junges Team und diese Season ungeschlagen. Dieses Match ist der Aufschwung zur Qualifikation für die Deutschen Meisterschaft. Wenn wir gewinnen haben wir uns einen guten Start in die Rückrunde gesichert.
URL:https://www.berlinerhc.de/kalender/rueckrundenstart-lacrosse-herren/
LOCATION:Berliner Hockey-Club e.V.\, Wilskistraße 70\, Berlin\, Berlin\, 14163\, Deutschland
CATEGORIES:Lacrosse
END:VEVENT
BEGIN:VEVENT
DTSTART;VALUE=DATE:20260308
DTEND;VALUE=DATE:20260309
DTSTAMP:20260420T145322
CREATED:20260130T090024Z
LAST-MODIFIED:20260130T090024Z
UID:38164-1772928000-1773014399@www.berlinerhc.de
SUMMARY:BHC Mini Bären Cup der MU6 & MU8
DESCRIPTION:Am 8.3. spielen wir in der Erich – Kästner – Grundschule den Mini Bären Cup der Jungs aus. Am Vormittag geht es bei den Minis der MU5 & MU6 rund und am Nachmittag spielt die MU8 in zwei Leistungsklassen. 
URL:https://www.berlinerhc.de/kalender/bhc-mini-baeren-cup-der-mu6-mu8/
LOCATION:Erich-Kästner-Grundschule\, Bachstelzenweg 2\, Berlin
CATEGORIES:Hockey
END:VEVENT
BEGIN:VEVENT
DTSTART;VALUE=DATE:20260214
DTEND;VALUE=DATE:20260215
DTSTAMP:20260420T145322
CREATED:20260130T085625Z
LAST-MODIFIED:20260130T090052Z
UID:38161-1771027200-1771113599@www.berlinerhc.de
SUMMARY:BHC Faschingsturnier der Mädchen U6 & U8
DESCRIPTION:Am 14.2. findet unser Faschingsturnier der Mädchen statt. Am Vormittag spielen unsere Minis aus der U5 und U6. Am Nachmittag tritt die WU8 in zwei Leistungsklassen (LK2 & LK3) an. 
URL:https://www.berlinerhc.de/kalender/faschingsturnier-der-maedchen-u6-u8/
LOCATION:Erich-Kästner-Grundschule\, Bachstelzenweg 2\, Berlin
CATEGORIES:Hockey
END:VEVENT
BEGIN:VEVENT
DTSTART;VALUE=DATE:20260201
DTEND;VALUE=DATE:20260202
DTSTAMP:20260420T145322
CREATED:20251210T131320Z
LAST-MODIFIED:20260314T141501Z
UID:37527-1769904000-1769990399@www.berlinerhc.de
SUMMARY:Viertelfinale Hallenhockey Bundesliga
DESCRIPTION:Sollte eines unserer Teams Heimrecht für das Viertelfinale erspielen wird das Viertelfinale voraussichtlich am 01.02.2026 in der Sporthalle Schöneberg ausgetragen werden.
URL:https://www.berlinerhc.de/kalender/safe-the-date-viertelfinale-hallenhockey-bundesliga/
LOCATION:Sportzentrum Schöneberg\, Sachsendamm 11\, Berlin\, Berlin\, 10829\, Germany
CATEGORIES:Hockey
END:VEVENT
BEGIN:VEVENT
DTSTART;TZID=Europe/Berlin:20260125T140000
DTEND;TZID=Europe/Berlin:20260125T153000
DTSTAMP:20260420T145322
CREATED:20251210T130251Z
LAST-MODIFIED:20251210T133840Z
UID:37516-1769349600-1769355000@www.berlinerhc.de
SUMMARY:Bundesliga Herren BHC vs. TC BW Berlin
DESCRIPTION:Tickets unter: https://t.rausgegangen.de/tickets/berliner-hc-vs-tc-blau-weiss-berlin-bundesliga-damen-herren
URL:https://www.berlinerhc.de/kalender/bundesliga-herren-bhc-vs-tc-bw-berlin/
LOCATION:Cole-Sport-Center\, Hüttenweg 43\, Berlin\, Berlin\, 14195\, Deutschland
CATEGORIES:Bundesliga (Herren)
END:VEVENT
BEGIN:VEVENT
DTSTART;TZID=Europe/Berlin:20260125T120000
DTEND;TZID=Europe/Berlin:20260125T133000
DTSTAMP:20260420T145322
CREATED:20251210T130010Z
LAST-MODIFIED:20251210T133852Z
UID:37514-1769342400-1769347800@www.berlinerhc.de
SUMMARY:Bundesliga Damen BHC vs. TC BW Berlin
DESCRIPTION:Tickets unter https://t.rausgegangen.de/tickets/berliner-hc-vs-tc-blau-weiss-berlin-bundesliga-damen-herren
URL:https://www.berlinerhc.de/kalender/bundesliga-damen-bhc-vs-tc-bw-berlin/
LOCATION:Cole-Sport-Center\, Hüttenweg 43\, Berlin\, Berlin\, 14195\, Deutschland
CATEGORIES:Bundesliga (Damen)
END:VEVENT
BEGIN:VEVENT
DTSTART;TZID=Europe/Berlin:20260124T140000
DTEND;TZID=Europe/Berlin:20260124T153000
DTSTAMP:20260420T145322
CREATED:20251210T130949Z
LAST-MODIFIED:20251210T135321Z
UID:37525-1769263200-1769268600@www.berlinerhc.de
SUMMARY:Bundesliga Herren HC Roseneck vs. BHC (Auswärtsspiel)
DESCRIPTION:
URL:https://www.berlinerhc.de/kalender/bundesliga-herren-hc-roseneck-vs-bhc-auswaertsspiel/
LOCATION:Sporthalle Charlottenburg\, Sömmeringstraße 29\, Berlin\, Berlin\, 10589\, Germany
CATEGORIES:Bundesliga (Herren)
END:VEVENT
BEGIN:VEVENT
DTSTART;TZID=Europe/Berlin:20260124T113000
DTEND;TZID=Europe/Berlin:20260124T130000
DTSTAMP:20260420T145322
CREATED:20251210T125804Z
LAST-MODIFIED:20251210T135330Z
UID:37512-1769254200-1769259600@www.berlinerhc.de
SUMMARY:Bundesliga Damen ATV Leipzig vs. BHC (Auswärtsspiel)
DESCRIPTION:
URL:https://www.berlinerhc.de/kalender/bundesliga-damen-atv-leipzig-vs-bhc-auswaertsspiel/
LOCATION:Schule am Rabet (Leipzig)\, Eisenbahnstraße 50\, Leipzig\, 04315\, Germany
CATEGORIES:Bundesliga (Damen)
END:VEVENT
END:VCALENDAR